BEGIN:VCALENDAR
VERSION:2.0
PRODID:-//TransParents - ECPv6.1.1//NONSGML v1.0//EN
CALSCALE:GREGORIAN
METHOD:PUBLISH
X-WR-CALNAME:TransParents
X-ORIGINAL-URL:https://onlinetraining.transparents.net
X-WR-CALDESC:Events for TransParents
REFRESH-INTERVAL;VALUE=DURATION:PT1H
X-Robots-Tag:noindex
X-PUBLISHED-TTL:PT1H
BEGIN:VTIMEZONE
TZID:Europe/Berlin
BEGIN:DAYLIGHT
TZOFFSETFROM:+0100
TZOFFSETTO:+0200
TZNAME:CEST
DTSTART:20220327T010000
END:DAYLIGHT
BEGIN:STANDARD
TZOFFSETFROM:+0200
TZOFFSETTO:+0100
TZNAME:CET
DTSTART:20221030T010000
END:STANDARD
BEGIN:DAYLIGHT
TZOFFSETFROM:+0100
TZOFFSETTO:+0200
TZNAME:CEST
DTSTART:20230326T010000
END:DAYLIGHT
BEGIN:STANDARD
TZOFFSETFROM:+0200
TZOFFSETTO:+0100
TZNAME:CET
DTSTART:20231029T010000
END:STANDARD
END:VTIMEZONE
BEGIN:VEVENT
DTSTART;TZID=Europe/Berlin:20230710T200000
DTEND;TZID=Europe/Berlin:20230710T220000
DTSTAMP:20260421T104430
CREATED:20230224T112254Z
LAST-MODIFIED:20230523T133205Z
UID:10000290-1689019200-1689026400@onlinetraining.transparents.net
SUMMARY:Übungstreffen
DESCRIPTION:
URL:https://onlinetraining.transparents.net/event/uebungstreffen-9/
CATEGORIES:Community-Membership,OT5,OT6
END:VEVENT
BEGIN:VEVENT
DTSTART;TZID=Europe/Berlin:20230619T200000
DTEND;TZID=Europe/Berlin:20230619T220000
DTSTAMP:20260421T104430
CREATED:20230224T112159Z
LAST-MODIFIED:20230523T133437Z
UID:10000289-1687204800-1687212000@onlinetraining.transparents.net
SUMMARY:Übungstreffen
DESCRIPTION:
URL:https://onlinetraining.transparents.net/event/uebungstreffen-8/
CATEGORIES:Community,Community-Membership,OT5,OT6
END:VEVENT
BEGIN:VEVENT
DTSTART;TZID=Europe/Berlin:20230606T200000
DTEND;TZID=Europe/Berlin:20230606T220000
DTSTAMP:20260421T104430
CREATED:20220816T155559Z
LAST-MODIFIED:20220816T155559Z
UID:10000246-1686081600-1686088800@onlinetraining.transparents.net
SUMMARY:Live Session 12 und Abschluss
DESCRIPTION:
URL:https://onlinetraining.transparents.net/event/live-session-12-und-abschluss/
CATEGORIES:OT5
END:VEVENT
BEGIN:VEVENT
DTSTART;VALUE=DATE:20230530
DTEND;VALUE=DATE:20230531
DTSTAMP:20260421T104430
CREATED:20220816T160430Z
LAST-MODIFIED:20220816T160430Z
UID:10000257-1685404800-1685491199@onlinetraining.transparents.net
SUMMARY:Session 12
DESCRIPTION:
URL:https://onlinetraining.transparents.net/event/session-12-5/
CATEGORIES:OT5
END:VEVENT
BEGIN:VEVENT
DTSTART;TZID=Europe/Berlin:20230522T200000
DTEND;TZID=Europe/Berlin:20230522T220000
DTSTAMP:20260421T104430
CREATED:20220905T202225Z
LAST-MODIFIED:20220905T202225Z
UID:10000262-1684785600-1684792800@onlinetraining.transparents.net
SUMMARY:Übungstreffen
DESCRIPTION:
URL:https://onlinetraining.transparents.net/event/uebungstreffen-7/
CATEGORIES:Community,Community-Membership,OT5,Vertiefung,Videokurs Beziehungsfähigkeit
END:VEVENT
BEGIN:VEVENT
DTSTART;TZID=Europe/Berlin:20230516T200000
DTEND;TZID=Europe/Berlin:20230516T220000
DTSTAMP:20260421T104430
CREATED:20220804T204112Z
LAST-MODIFIED:20220816T155437Z
UID:10000244-1684267200-1684274400@onlinetraining.transparents.net
SUMMARY:Live Session 11
DESCRIPTION:
URL:https://onlinetraining.transparents.net/event/live-session-12-abschluss/
CATEGORIES:OT5
END:VEVENT
BEGIN:VEVENT
DTSTART;VALUE=DATE:20230509
DTEND;VALUE=DATE:20230510
DTSTAMP:20260421T104430
CREATED:20220816T160239Z
LAST-MODIFIED:20220816T160239Z
UID:10000256-1683590400-1683676799@onlinetraining.transparents.net
SUMMARY:Session 11
DESCRIPTION:
URL:https://onlinetraining.transparents.net/event/session-11-3/
CATEGORIES:OT5
END:VEVENT
BEGIN:VEVENT
DTSTART;TZID=Europe/Berlin:20230425T203000
DTEND;TZID=Europe/Berlin:20230425T213000
DTSTAMP:20260421T104430
CREATED:20220804T204008Z
LAST-MODIFIED:20220816T155341Z
UID:10000243-1682454600-1682458200@onlinetraining.transparents.net
SUMMARY:Live Session 10
DESCRIPTION:
URL:https://onlinetraining.transparents.net/event/live-session-11/
CATEGORIES:OT5
END:VEVENT
BEGIN:VEVENT
DTSTART;TZID=Europe/Berlin:20230418T200000
DTEND;TZID=Europe/Berlin:20230418T220000
DTSTAMP:20260421T104430
CREATED:20220905T202133Z
LAST-MODIFIED:20230220T203758Z
UID:10000261-1681848000-1681855200@onlinetraining.transparents.net
SUMMARY:Übungstreffen
DESCRIPTION:
URL:https://onlinetraining.transparents.net/event/uebungstreffen-6/
CATEGORIES:Community,Community-Membership,OT5,Videokurs Beziehungsfähigkeit
END:VEVENT
BEGIN:VEVENT
DTSTART;VALUE=DATE:20230418
DTEND;VALUE=DATE:20230419
DTSTAMP:20260421T104430
CREATED:20220816T160158Z
LAST-MODIFIED:20220816T160158Z
UID:10000255-1681776000-1681862399@onlinetraining.transparents.net
SUMMARY:Session 10
DESCRIPTION:
URL:https://onlinetraining.transparents.net/event/session-10-3/
CATEGORIES:OT5
END:VEVENT
BEGIN:VEVENT
DTSTART;TZID=Europe/Berlin:20230328T203000
DTEND;TZID=Europe/Berlin:20230328T213000
DTSTAMP:20260421T104430
CREATED:20220804T203909Z
LAST-MODIFIED:20220816T155024Z
UID:10000241-1680035400-1680039000@onlinetraining.transparents.net
SUMMARY:Live Session Standortbestimmung 2
DESCRIPTION:
URL:https://onlinetraining.transparents.net/event/live-session-10/
CATEGORIES:OT5
END:VEVENT
BEGIN:VEVENT
DTSTART;TZID=Europe/Berlin:20230314T203000
DTEND;TZID=Europe/Berlin:20230314T213000
DTSTAMP:20260421T104430
CREATED:20220804T203817Z
LAST-MODIFIED:20220804T203817Z
UID:10000240-1678825800-1678829400@onlinetraining.transparents.net
SUMMARY:Live Session 8&9
DESCRIPTION:
URL:https://onlinetraining.transparents.net/event/live-session-89/
CATEGORIES:OT5
END:VEVENT
BEGIN:VEVENT
DTSTART;TZID=Europe/Berlin:20230307T080000
DTEND;TZID=Europe/Berlin:20230307T170000
DTSTAMP:20260421T104430
CREATED:20220816T160126Z
LAST-MODIFIED:20220816T160126Z
UID:10000254-1678176000-1678208400@onlinetraining.transparents.net
SUMMARY:Session 8&9
DESCRIPTION:
URL:https://onlinetraining.transparents.net/event/session-89-2/
CATEGORIES:OT5
END:VEVENT
BEGIN:VEVENT
DTSTART;TZID=Europe/Berlin:20230306T200000
DTEND;TZID=Europe/Berlin:20230306T220000
DTSTAMP:20260421T104430
CREATED:20220905T202043Z
LAST-MODIFIED:20230220T203927Z
UID:10000260-1678132800-1678140000@onlinetraining.transparents.net
SUMMARY:Übungstreffen
DESCRIPTION:
URL:https://onlinetraining.transparents.net/event/uebungstreffen-5/
CATEGORIES:Community,Community-Membership,OT5,Vertiefung,Videokurs Beziehungsfähigkeit
END:VEVENT
BEGIN:VEVENT
DTSTART;TZID=Europe/Berlin:20230221T203000
DTEND;TZID=Europe/Berlin:20230221T213000
DTSTAMP:20260421T104430
CREATED:20220804T203729Z
LAST-MODIFIED:20220804T203729Z
UID:10000237-1677011400-1677015000@onlinetraining.transparents.net
SUMMARY:Live Session 7
DESCRIPTION:
URL:https://onlinetraining.transparents.net/event/live-session-7-2/
CATEGORIES:OT5
END:VEVENT
BEGIN:VEVENT
DTSTART;VALUE=DATE:20230214
DTEND;VALUE=DATE:20230215
DTSTAMP:20260421T104430
CREATED:20220816T160044Z
LAST-MODIFIED:20220816T160044Z
UID:10000253-1676332800-1676419199@onlinetraining.transparents.net
SUMMARY:Session 7
DESCRIPTION:
URL:https://onlinetraining.transparents.net/event/session-7-3/
CATEGORIES:OT5
END:VEVENT
BEGIN:VEVENT
DTSTART;TZID=Europe/Berlin:20230206T200000
DTEND;TZID=Europe/Berlin:20230206T220000
DTSTAMP:20260421T104430
CREATED:20220905T202000Z
LAST-MODIFIED:20220905T202000Z
UID:10000259-1675713600-1675720800@onlinetraining.transparents.net
SUMMARY:Übungstreffen
DESCRIPTION:
URL:https://onlinetraining.transparents.net/event/uebungstreffen-4/
CATEGORIES:Community,Community-Membership,OT4,OT5,Vertiefung,Videokurs Beziehungsfähigkeit
END:VEVENT
BEGIN:VEVENT
DTSTART;TZID=Europe/Berlin:20230131T203000
DTEND;TZID=Europe/Berlin:20230131T213000
DTSTAMP:20260421T104430
CREATED:20220804T203636Z
LAST-MODIFIED:20220804T203636Z
UID:10000236-1675197000-1675200600@onlinetraining.transparents.net
SUMMARY:Live Session 6
DESCRIPTION:
URL:https://onlinetraining.transparents.net/event/live-session-6-2/
CATEGORIES:OT5
END:VEVENT
BEGIN:VEVENT
DTSTART;VALUE=DATE:20230124
DTEND;VALUE=DATE:20230125
DTSTAMP:20260421T104430
CREATED:20220816T160011Z
LAST-MODIFIED:20220816T160011Z
UID:10000252-1674518400-1674604799@onlinetraining.transparents.net
SUMMARY:Session 6
DESCRIPTION:
URL:https://onlinetraining.transparents.net/event/session-6-3/
CATEGORIES:OT5
END:VEVENT
BEGIN:VEVENT
DTSTART;TZID=Europe/Berlin:20230110T203000
DTEND;TZID=Europe/Berlin:20230110T213000
DTSTAMP:20260421T104430
CREATED:20220804T203546Z
LAST-MODIFIED:20220804T203546Z
UID:10000234-1673382600-1673386200@onlinetraining.transparents.net
SUMMARY:Live Session 5
DESCRIPTION:
URL:https://onlinetraining.transparents.net/event/live-session-5-2/
CATEGORIES:OT5
END:VEVENT
BEGIN:VEVENT
DTSTART;TZID=Europe/Berlin:20230109T200000
DTEND;TZID=Europe/Berlin:20230109T220000
DTSTAMP:20260421T104430
CREATED:20220905T201910Z
LAST-MODIFIED:20220905T201910Z
UID:10000258-1673294400-1673301600@onlinetraining.transparents.net
SUMMARY:Übungstreffen
DESCRIPTION:
URL:https://onlinetraining.transparents.net/event/uebungstreffen-3/
CATEGORIES:Community,Community-Membership,OT4,OT5,Vertiefung,Videokurs Beziehungsfähigkeit
END:VEVENT
BEGIN:VEVENT
DTSTART;VALUE=DATE:20230103
DTEND;VALUE=DATE:20230104
DTSTAMP:20260421T104430
CREATED:20220816T155937Z
LAST-MODIFIED:20220816T155937Z
UID:10000251-1672704000-1672790399@onlinetraining.transparents.net
SUMMARY:Session 5
DESCRIPTION:
URL:https://onlinetraining.transparents.net/event/session-5-3/
CATEGORIES:OT5
END:VEVENT
BEGIN:VEVENT
DTSTART;TZID=Europe/Berlin:20221213T203000
DTEND;TZID=Europe/Berlin:20221213T213000
DTSTAMP:20260421T104430
CREATED:20220816T155231Z
LAST-MODIFIED:20220816T155231Z
UID:10000245-1670963400-1670967000@onlinetraining.transparents.net
SUMMARY:Live Session Standortbestimmung 1
DESCRIPTION:
URL:https://onlinetraining.transparents.net/event/live-session-standortbestimmung-1/
CATEGORIES:OT5
END:VEVENT
BEGIN:VEVENT
DTSTART;TZID=Europe/Berlin:20221207T200000
DTEND;TZID=Europe/Berlin:20221207T220000
DTSTAMP:20260421T104430
CREATED:20220422T124644Z
LAST-MODIFIED:20220819T152304Z
UID:10000175-1670443200-1670450400@onlinetraining.transparents.net
SUMMARY:Übungstreffen
DESCRIPTION:
URL:https://onlinetraining.transparents.net/event/uebungstreffen-2/
CATEGORIES:Community,Community-Membership,OT4,OT5,Vertiefung,Videokurs Beziehungsfähigkeit
END:VEVENT
BEGIN:VEVENT
DTSTART;TZID=Europe/Berlin:20221129T203000
DTEND;TZID=Europe/Berlin:20221129T213000
DTSTAMP:20260421T104431
CREATED:20220804T203455Z
LAST-MODIFIED:20220816T154810Z
UID:10000231-1669753800-1669757400@onlinetraining.transparents.net
SUMMARY:Live Session 4
DESCRIPTION:
URL:https://onlinetraining.transparents.net/event/live-session-4-2/
CATEGORIES:OT5
END:VEVENT
BEGIN:VEVENT
DTSTART;VALUE=DATE:20221122
DTEND;VALUE=DATE:20221123
DTSTAMP:20260421T104431
CREATED:20220816T155903Z
LAST-MODIFIED:20220816T155903Z
UID:10000249-1669075200-1669161599@onlinetraining.transparents.net
SUMMARY:Session 4
DESCRIPTION:
URL:https://onlinetraining.transparents.net/event/session-4-3/
CATEGORIES:OT5
END:VEVENT
BEGIN:VEVENT
DTSTART;TZID=Europe/Berlin:20221114T200000
DTEND;TZID=Europe/Berlin:20221114T220000
DTSTAMP:20260421T104431
CREATED:20220422T124555Z
LAST-MODIFIED:20220819T152318Z
UID:10000174-1668456000-1668463200@onlinetraining.transparents.net
SUMMARY:Übungstreffen
DESCRIPTION:
URL:https://onlinetraining.transparents.net/event/uebungstreffen/
CATEGORIES:Community,Community-Membership,OT4,OT5,Vertiefung,Videokurs Beziehungsfähigkeit
END:VEVENT
BEGIN:VEVENT
DTSTART;TZID=Europe/Berlin:20221108T203000
DTEND;TZID=Europe/Berlin:20221108T213000
DTSTAMP:20260421T104431
CREATED:20220804T203408Z
LAST-MODIFIED:20220816T154727Z
UID:10000229-1667939400-1667943000@onlinetraining.transparents.net
SUMMARY:Live Session 3
DESCRIPTION:
URL:https://onlinetraining.transparents.net/event/live-session-3-2/
CATEGORIES:OT5
END:VEVENT
BEGIN:VEVENT
DTSTART;VALUE=DATE:20221101
DTEND;VALUE=DATE:20221102
DTSTAMP:20260421T104431
CREATED:20220816T155835Z
LAST-MODIFIED:20220816T155835Z
UID:10000248-1667260800-1667347199@onlinetraining.transparents.net
SUMMARY:Session 3
DESCRIPTION:
URL:https://onlinetraining.transparents.net/event/session-3-3/
CATEGORIES:OT5
END:VEVENT
BEGIN:VEVENT
DTSTART;TZID=Europe/Berlin:20221018T203000
DTEND;TZID=Europe/Berlin:20221018T213000
DTSTAMP:20260421T104431
CREATED:20220804T203212Z
LAST-MODIFIED:20220816T154643Z
UID:10000225-1666125000-1666128600@onlinetraining.transparents.net
SUMMARY:Live Session 1&2
DESCRIPTION:
URL:https://onlinetraining.transparents.net/event/live-session-12/
CATEGORIES:OT5
END:VEVENT
END:VCALENDAR